BEGIN:VCALENDAR
VERSION:2.0
PRODID:-//barbudanGO - ECPv6.15.20//NONSGML v1.0//EN
CALSCALE:GREGORIAN
METHOD:PUBLISH
X-ORIGINAL-URL:https://barbudango.com
X-WR-CALDESC:Events for barbudanGO
REFRESH-INTERVAL;VALUE=DURATION:PT1H
X-Robots-Tag:noindex
X-PUBLISHED-TTL:PT1H
BEGIN:VTIMEZONE
TZID:UTC
BEGIN:STANDARD
TZOFFSETFROM:+0000
TZOFFSETTO:+0000
TZNAME:UTC
DTSTART:20210101T000000
END:STANDARD
END:VTIMEZONE
BEGIN:VEVENT
DTSTART;VALUE=DATE:20220926
DTEND;VALUE=DATE:20220927
DTSTAMP:20260423T204516
CREATED:20220527T040206Z
LAST-MODIFIED:20220527T040206Z
UID:770-1664150400-1664236799@barbudango.com
SUMMARY:Fund GO Global Giving Financial Campaign
DESCRIPTION:
URL:https://barbudango.com/event/fund-go-global-giving-financial-campaign/
LOCATION:Barbuda\, Codrington\, Barbuda\, Antigua and Barbuda
CATEGORIES:bGO Capacity
END:VEVENT
BEGIN:VEVENT
DTSTART;VALUE=DATE:20220521
DTEND;VALUE=DATE:20220522
DTSTAMP:20260423T204516
CREATED:20220527T022308Z
LAST-MODIFIED:20220527T022849Z
UID:762-1653091200-1653177599@barbudango.com
SUMMARY:barbudanGO Official Office Launch
DESCRIPTION:
URL:https://barbudango.com/event/barbudango-official-office-launch/
LOCATION:Barbuda\, Codrington\, Barbuda\, Antigua and Barbuda
CATEGORIES:bGO Capacity
ORGANIZER;CN="barbudanGO":MAILTO:barbudango@gmail.com
END:VEVENT
END:VCALENDAR