BEGIN:VCALENDAR
VERSION:2.0
PRODID:-//barbudanGO - ECPv6.15.20//NONSGML v1.0//EN
CALSCALE:GREGORIAN
METHOD:PUBLISH
X-WR-CALNAME:barbudanGO
X-ORIGINAL-URL:https://barbudango.com
X-WR-CALDESC:Events for barbudanGO
REFRESH-INTERVAL;VALUE=DURATION:PT1H
X-Robots-Tag:noindex
X-PUBLISHED-TTL:PT1H
BEGIN:VTIMEZONE
TZID:UTC
BEGIN:STANDARD
TZOFFSETFROM:+0000
TZOFFSETTO:+0000
TZNAME:UTC
DTSTART:20210101T000000
END:STANDARD
END:VTIMEZONE
BEGIN:VEVENT
DTSTART;VALUE=DATE:20221202
DTEND;VALUE=DATE:20221203
DTSTAMP:20260423T182050
CREATED:20220527T040527Z
LAST-MODIFIED:20220527T040527Z
UID:778-1669939200-1670025599@barbudango.com
SUMMARY:Ocean Fest
DESCRIPTION:
URL:https://barbudango.com/event/ocean-fest/
LOCATION:Barbuda\, Codrington\, Barbuda\, Antigua and Barbuda
CATEGORIES:Environment Preservation
ORGANIZER;CN="barbudanGO":MAILTO:barbudango@gmail.com
END:VEVENT
BEGIN:VEVENT
DTSTART;VALUE=DATE:20220921
DTEND;VALUE=DATE:20220922
DTSTAMP:20260423T182050
CREATED:20220527T040256Z
LAST-MODIFIED:20220527T040256Z
UID:772-1663718400-1663804799@barbudango.com
SUMMARY:World Zero Emission Day
DESCRIPTION:
URL:https://barbudango.com/event/world-zero-emission-day/
LOCATION:Worldwide
CATEGORIES:Environment Preservation
END:VEVENT
BEGIN:VEVENT
DTSTART;VALUE=DATE:20220608
DTEND;VALUE=DATE:20220609
DTSTAMP:20260423T182050
CREATED:20220527T035736Z
LAST-MODIFIED:20220527T035736Z
UID:768-1654646400-1654732799@barbudango.com
SUMMARY:World Ocean Day
DESCRIPTION:
URL:https://barbudango.com/event/world-ocean-day/
LOCATION:Worldwide
CATEGORIES:Environment Preservation
END:VEVENT
END:VCALENDAR