BEGIN:VCALENDAR
VERSION:2.0
PRODID:-//barbudanGO - ECPv6.15.20//NONSGML v1.0//EN
CALSCALE:GREGORIAN
METHOD:PUBLISH
X-ORIGINAL-URL:https://barbudango.com
X-WR-CALDESC:Events for barbudanGO
REFRESH-INTERVAL;VALUE=DURATION:PT1H
X-Robots-Tag:noindex
X-PUBLISHED-TTL:PT1H
BEGIN:VTIMEZONE
TZID:UTC
BEGIN:STANDARD
TZOFFSETFROM:+0000
TZOFFSETTO:+0000
TZNAME:UTC
DTSTART:20210101T000000
END:STANDARD
END:VTIMEZONE
BEGIN:VEVENT
DTSTART;VALUE=DATE:20220418
DTEND;VALUE=DATE:20220419
DTSTAMP:20260423T204328
CREATED:20220527T021344Z
LAST-MODIFIED:20220527T021714Z
UID:755-1650240000-1650326399@barbudango.com
SUMMARY:World Heritage Day
DESCRIPTION:
URL:https://barbudango.com/event/world-heritage-day/
LOCATION:Worldwide
CATEGORIES:History
END:VEVENT
END:VCALENDAR